BEGIN:VCALENDAR
VERSION:2.0
PRODID:-//RAM Ministry - ECPv6.15.20//NONSGML v1.0//EN
CALSCALE:GREGORIAN
METHOD:PUBLISH
X-WR-CALNAME:RAM Ministry
X-ORIGINAL-URL:https://ramministry.org
X-WR-CALDESC:Events for RAM Ministry
REFRESH-INTERVAL;VALUE=DURATION:PT1H
X-Robots-Tag:noindex
X-PUBLISHED-TTL:PT1H
BEGIN:VTIMEZONE
TZID:America/Chicago
BEGIN:DAYLIGHT
TZOFFSETFROM:-0600
TZOFFSETTO:-0500
TZNAME:CDT
DTSTART:20250309T080000
END:DAYLIGHT
BEGIN:STANDARD
TZOFFSETFROM:-0500
TZOFFSETTO:-0600
TZNAME:CST
DTSTART:20251102T070000
END:STANDARD
BEGIN:DAYLIGHT
TZOFFSETFROM:-0600
TZOFFSETTO:-0500
TZNAME:CDT
DTSTART:20260308T080000
END:DAYLIGHT
BEGIN:STANDARD
TZOFFSETFROM:-0500
TZOFFSETTO:-0600
TZNAME:CST
DTSTART:20261101T070000
END:STANDARD
BEGIN:DAYLIGHT
TZOFFSETFROM:-0600
TZOFFSETTO:-0500
TZNAME:CDT
DTSTART:20270314T080000
END:DAYLIGHT
BEGIN:STANDARD
TZOFFSETFROM:-0500
TZOFFSETTO:-0600
TZNAME:CST
DTSTART:20271107T070000
END:STANDARD
END:VTIMEZONE
BEGIN:VEVENT
DTSTART;TZID=America/Chicago:20260409T093000
DTEND;TZID=America/Chicago:20260411T173000
DTSTAMP:20260424T081246
CREATED:20260206T030149Z
LAST-MODIFIED:20260314T045846Z
UID:37246-1775727000-1775928600@ramministry.org
SUMMARY:Zoom April 2026 – BASIC deliverance training [MODULE 1]
DESCRIPTION:Join us by Zoom\, for the Basic deliverance training curriculum. \n\n\nDuring our 2 days 1/2 sessions we will cover the academic sessions from our Deliverance Training Level 1.\nYou will learn:\n– Deliverance 101 (can a christian be in need of deliverance and other principles)\n– Curses (5 types)\n– Freemasonry\n– Emotions vs Spirits\n– The obstacles to deliverance\n– Deliverance ministry practicalities \n—and more \n\n\n3 sessions will be open for corporate ministry: you will break free from generational curses\, Freemasonry and receive healing of your emotions. \n\nParticipants will receive a link and password for the Zoom session. In addition\, you will get our deliverance manual (in pdf form for international customers) and (1) MP4 video. \nSee detailed schedule: \n\nApril 9th 2026: from 4pm to 7pm\nApril 10th-11st 2026: from 9:30 am to 5:30pm\n\nNo refund will be issued after the start of the conference.
URL:https://ramministry.org/event/zoom-march-2026-basic-deliverance-training-module-1/
END:VEVENT
END:VCALENDAR