BEGIN:VCALENDAR
VERSION:2.0
PRODID:-//RAM Ministry - ECPv6.15.20//NONSGML v1.0//EN
CALSCALE:GREGORIAN
METHOD:PUBLISH
X-WR-CALNAME:RAM Ministry
X-ORIGINAL-URL:https://ramministry.org
X-WR-CALDESC:Events for RAM Ministry
REFRESH-INTERVAL;VALUE=DURATION:PT1H
X-Robots-Tag:noindex
X-PUBLISHED-TTL:PT1H
BEGIN:VTIMEZONE
TZID:America/Chicago
BEGIN:DAYLIGHT
TZOFFSETFROM:-0600
TZOFFSETTO:-0500
TZNAME:CDT
DTSTART:20240310T080000
END:DAYLIGHT
BEGIN:STANDARD
TZOFFSETFROM:-0500
TZOFFSETTO:-0600
TZNAME:CST
DTSTART:20241103T070000
END:STANDARD
BEGIN:DAYLIGHT
TZOFFSETFROM:-0600
TZOFFSETTO:-0500
TZNAME:CDT
DTSTART:20250309T080000
END:DAYLIGHT
BEGIN:STANDARD
TZOFFSETFROM:-0500
TZOFFSETTO:-0600
TZNAME:CST
DTSTART:20251102T070000
END:STANDARD
BEGIN:DAYLIGHT
TZOFFSETFROM:-0600
TZOFFSETTO:-0500
TZNAME:CDT
DTSTART:20260308T080000
END:DAYLIGHT
BEGIN:STANDARD
TZOFFSETFROM:-0500
TZOFFSETTO:-0600
TZNAME:CST
DTSTART:20261101T070000
END:STANDARD
END:VTIMEZONE
BEGIN:VEVENT
DTSTART;TZID=America/Chicago:20251008T160000
DTEND;TZID=America/Chicago:20251012T180000
DTSTAMP:20260424T220042
CREATED:20230401T221157Z
LAST-MODIFIED:20250417T020533Z
UID:2114-1759939200-1760292000@ramministry.org
SUMMARY:In-Person training - BASIC Deliverance Training [Module 1] - South Dakota
DESCRIPTION:Join us IN PERSON for a training in deliverance through our Basic deliverance training curriculum. \n\n\nDuring our 3 days 1/2 sessions we will cover the academic sessions from our Deliverance Training Level 1\, as well as give the opportunity to PRACTICE deliverance ministry under supervision. \n\nThis is open to anyone: pastors\, assistant pastors\, church leaders\, evangelists\, and any individual seeking to be used in deliverance ministry. \n\nYou will learn: \n– Deliverance 101 (why and what is the controversy surrounding deliverance? can a christian be in need of deliverance and other biblical principles)\n– Curses (5 types)\n– Freemasonry\n– Emotions vs Spirits\n– The obstacles to deliverance\n– Deliverance ministry practicalities \n—and more \n\n\nA few sessions will be open for corporate ministry: you will break free from generational curses\, Freemasonry and receive healing of your emotions. \n\nEach participant will receive 2 books and get an opportunity to practice ministering in deliverance. For that reason\, we keep the number of participants low. \n  \nWed: 4pm-7pm \nThursday-Saturday: 9am – 6pm
URL:https://ramministry.org/event/zoom-basic-deliverance-training-module-1-in-person/
LOCATION:River Center Church 1105 E. Sioux Pierre\, SD 57501\, 1105 E. Sioux\,\, Pierre\, SD\, 57501
CATEGORIES:Deliverance Training School,Workshops
ATTACH;FMTTYPE=image/jpeg:https://ramministry.org/wp-content/uploads/2020/02/lecture-3986809_1920-e1582591780822.jpg
ORGANIZER;CN="Sylvie Sudduth":MAILTO:office@ramministry.org
END:VEVENT
END:VCALENDAR