BEGIN:VCALENDAR
VERSION:2.0
PRODID:-//RAM Ministry - ECPv6.15.20//NONSGML v1.0//EN
CALSCALE:GREGORIAN
METHOD:PUBLISH
X-ORIGINAL-URL:https://ramministry.org
X-WR-CALDESC:Events for RAM Ministry
REFRESH-INTERVAL;VALUE=DURATION:PT1H
X-Robots-Tag:noindex
X-PUBLISHED-TTL:PT1H
BEGIN:VTIMEZONE
TZID:America/Chicago
BEGIN:DAYLIGHT
TZOFFSETFROM:-0600
TZOFFSETTO:-0500
TZNAME:CDT
DTSTART:20250309T080000
END:DAYLIGHT
BEGIN:STANDARD
TZOFFSETFROM:-0500
TZOFFSETTO:-0600
TZNAME:CST
DTSTART:20251102T070000
END:STANDARD
BEGIN:DAYLIGHT
TZOFFSETFROM:-0600
TZOFFSETTO:-0500
TZNAME:CDT
DTSTART:20260308T080000
END:DAYLIGHT
BEGIN:STANDARD
TZOFFSETFROM:-0500
TZOFFSETTO:-0600
TZNAME:CST
DTSTART:20261101T070000
END:STANDARD
BEGIN:DAYLIGHT
TZOFFSETFROM:-0600
TZOFFSETTO:-0500
TZNAME:CDT
DTSTART:20270314T080000
END:DAYLIGHT
BEGIN:STANDARD
TZOFFSETFROM:-0500
TZOFFSETTO:-0600
TZNAME:CST
DTSTART:20271107T070000
END:STANDARD
END:VTIMEZONE
BEGIN:VEVENT
DTSTART;TZID=America/Chicago:20260416T163000
DTEND;TZID=America/Chicago:20260418T173000
DTSTAMP:20260424T055618
CREATED:20260206T023941Z
LAST-MODIFIED:20260416T204039Z
UID:37227-1776357000-1776533400@ramministry.org
SUMMARY:Zoom Advanced Deliverance Training - April 2026 [MODULE 2]
DESCRIPTION:For more in-depth training on matters encountered in deliverance. \nAimed for those of you wanting to grow in deliverance\, in order to participate in this training\, it is required you already have been trained in deliverance or are already active in deliverance ministry. Ideally\, you would have to have gone through our RAM Basic deliverance training [‘Module1’ – Online or in-person]. \nDuring this training session\, we will cover:\n\nWhat is witchcraft\, and its various forms…\nDeeper exploration of Freemasonry\, Catholicism\, New Age\nSatanic Ritual Abuse (SRA)\nMind control (also known as: brainwashing\, programming): historical context\, basics and characteristics\, from government\, cults\, organized crime…etc…\nDissociation and Dissociated Identity Disorder: understand the mechanisms\, learn how to recognize and minister\nHow-to minister in these areas.\n\nOur desire is for all to grow confident in their ability to minister deliverance\, in a safe\, biblical and sound way. But also\, we hope to provide those in need of healing with understanding\, support and resources. \n\nParticipants will receive the Zoom link and password\, along with 1 MP4. \n\nSee detailed schedule:\n\nApril 16th 2026: from 4:30pm to 7pm\nApril 17th-18th: from 9:30 am to 5:30pm\n\nNo refund will be issued after the start of the conference.
URL:https://ramministry.org/event/zoom-advanced-deliverance-training-march-2026-module-2/
END:VEVENT
BEGIN:VEVENT
DTSTART;TZID=America/Chicago:20260424T093000
DTEND;TZID=America/Chicago:20260425T173000
DTSTAMP:20260424T055618
CREATED:20260413T011556Z
LAST-MODIFIED:20260413T011556Z
UID:37343-1777023000-1777138200@ramministry.org
SUMMARY:Zoom online training - [MODULE 3] April 2026
DESCRIPTION:For more in-depth training on topics that are usually more marginally covered. \nIt is required you already have been trained in deliverance or are already active in deliverance ministry. Ideally\, you would have to have gone through our RAM Basic deliverance training [‘Module1’ – Online or in-person]. \nDuring this training session\, we will cover:\n\n\nJezebel Spirit vs Absalom Spirit: what are they\, how are they different?\nCurrent fads.\nMarine spirits: are they real? How could they affect people?\nSexual issues\nPractical organization of deliverance ministry.\nChildren deliverance?\nHistory of exorcism.\n\nOur desire is for all to grow confident in their ability to minister deliverance\, in a safe\, biblical and sound way. \nThis is a new training offered by RAM and we are happy to keep the cost of this session exceptionally low! \n\nParticipants will receive the Zoom link and password. \n  \nNo refund will be issued after the start of the conference
URL:https://ramministry.org/event/zoom-online-training-module-3-april-2026/
ORGANIZER;CN="Sylvie Sudduth":MAILTO:office@ramministry.org
END:VEVENT
END:VCALENDAR