BEGIN:VCALENDAR
VERSION:2.0
PRODID:-//RAM Ministry - ECPv6.15.20//NONSGML v1.0//EN
CALSCALE:GREGORIAN
METHOD:PUBLISH
X-WR-CALNAME:RAM Ministry
X-ORIGINAL-URL:https://ramministry.org
X-WR-CALDESC:Events for RAM Ministry
REFRESH-INTERVAL;VALUE=DURATION:PT1H
X-Robots-Tag:noindex
X-PUBLISHED-TTL:PT1H
BEGIN:VTIMEZONE
TZID:America/Chicago
BEGIN:DAYLIGHT
TZOFFSETFROM:-0600
TZOFFSETTO:-0500
TZNAME:CDT
DTSTART:20240310T080000
END:DAYLIGHT
BEGIN:STANDARD
TZOFFSETFROM:-0500
TZOFFSETTO:-0600
TZNAME:CST
DTSTART:20241103T070000
END:STANDARD
BEGIN:DAYLIGHT
TZOFFSETFROM:-0600
TZOFFSETTO:-0500
TZNAME:CDT
DTSTART:20250309T080000
END:DAYLIGHT
BEGIN:STANDARD
TZOFFSETFROM:-0500
TZOFFSETTO:-0600
TZNAME:CST
DTSTART:20251102T070000
END:STANDARD
BEGIN:DAYLIGHT
TZOFFSETFROM:-0600
TZOFFSETTO:-0500
TZNAME:CDT
DTSTART:20260308T080000
END:DAYLIGHT
BEGIN:STANDARD
TZOFFSETFROM:-0500
TZOFFSETTO:-0600
TZNAME:CST
DTSTART:20261101T070000
END:STANDARD
END:VTIMEZONE
BEGIN:VTIMEZONE
TZID:America/New_York
BEGIN:DAYLIGHT
TZOFFSETFROM:-0500
TZOFFSETTO:-0400
TZNAME:EDT
DTSTART:20240310T070000
END:DAYLIGHT
BEGIN:STANDARD
TZOFFSETFROM:-0400
TZOFFSETTO:-0500
TZNAME:EST
DTSTART:20241103T060000
END:STANDARD
BEGIN:DAYLIGHT
TZOFFSETFROM:-0500
TZOFFSETTO:-0400
TZNAME:EDT
DTSTART:20250309T070000
END:DAYLIGHT
BEGIN:STANDARD
TZOFFSETFROM:-0400
TZOFFSETTO:-0500
TZNAME:EST
DTSTART:20251102T060000
END:STANDARD
BEGIN:DAYLIGHT
TZOFFSETFROM:-0500
TZOFFSETTO:-0400
TZNAME:EDT
DTSTART:20260308T070000
END:DAYLIGHT
BEGIN:STANDARD
TZOFFSETFROM:-0400
TZOFFSETTO:-0500
TZNAME:EST
DTSTART:20261101T060000
END:STANDARD
END:VTIMEZONE
BEGIN:VEVENT
DTSTART;TZID=America/Chicago:20250626T160000
DTEND;TZID=America/Chicago:20250628T173000
DTSTAMP:20260424T110429
CREATED:20250529T011421Z
LAST-MODIFIED:20250709T150625Z
UID:4210-1750953600-1751131800@ramministry.org
SUMMARY:June 2025 - Advanced Deliverance Training [MODULE 2]
DESCRIPTION:For more in-depth training on matters encountered in deliverance. \nAimed for those of you wanting to grow in deliverance\, in order to participate in this training\, it is required you already have been trained in deliverance or are already active in deliverance ministry. Ideally\, you would have to have gone through our RAM Basic deliverance training [‘Module1’ – Online or in-person]. \nDuring this training session\, we will cover:\n\nWhat is witchcraft\, and its various forms…\nDeeper exploration of Freemasonry\, Catholicism\, New Age\nSatanic Ritual Abuse (SRA)\nMind control (also known as: brainwashing\, programming): historical context\, basics and characteristics\, from government\, cults\, organized crime…etc…\nDissociation and Dissociated Identity Disorder: understand the mechanisms\, learn how to recognize and minister\nHow-to minister in these areas.\n\nOur desire is for all to grow confident in their ability to minister deliverance\, in a safe\, biblical and sound way. But also\, we hope to provide those in need of healing with understanding\, support and resources. \n\nParticipants will receive the Zoom link and password\, along with 1 MP4. \nSee detailed schedule:\n\nJune 26th 2025: from 4:00pm to 7pm\nJune 27-28 2025: from 9:30 am to 5:30pm\n\nNo refund will be issued after the start of the conference.
URL:https://ramministry.org/event/june-2025-advanced-deliverance-training-module-2/
ORGANIZER;CN="Sylvie Sudduth":MAILTO:office@ramministry.org
END:VEVENT
BEGIN:VEVENT
DTSTART;TZID=America/New_York:20250619T160000
DTEND;TZID=America/New_York:20250621T173000
DTSTAMP:20260424T110429
CREATED:20250529T001833Z
LAST-MODIFIED:20250601T042727Z
UID:4188-1750348800-1750527000@ramministry.org
SUMMARY:Zoom - BASIC Deliverance Training [Module 1] - Online
DESCRIPTION:Join us by Zoom\, for the Basic deliverance training curriculum. \n\n\nDuring our 2 days 1/2 sessions we will cover the academic sessions from our Deliverance Training Level 1.\nYou will learn:\n– Deliverance 101 (can a christian be in need of deliverance and other principles)\n– Curses (5 types)\n– Freemasonry\n– Emotions vs Spirits\n– The obstacles to deliverance\n– Deliverance ministry practicalities \n—and more \n\n\n3 sessions will be open for corporate ministry: you will break free from generational curses\, Freemasonry and receive healing of your emotions. \n\nParticipants will receive a link and password for the Zoom session. In addition\, you will get our deliverance manual (in pdf form for international customers) and (1) MP4 video. \nSee detailed schedule: \n\nJune 19th 2025: from 4pm to 7pm\nJune 20-21 2025: from 9:30 am to 5:30pm
URL:https://ramministry.org/event/zoom-basic-deliverance-training-module-1-online-5/
ORGANIZER;CN="Sylvie Sudduth":MAILTO:office@ramministry.org
END:VEVENT
END:VCALENDAR